BEGIN:VCALENDAR
VERSION:2.0
PRODID:gruene-breisach.de
METHOD:PUBLISH
BEGIN:VTIMEZONE
TZID:Europe/Berlin
X-LIC-LOCATION:Europe/Berlin
BEGIN:DAYLIGHT
TZOFFSETFROM:+0100
TZOFFSETTO:+0200
TZNAME:CEST
DTSTART:19700329T020000
RRULE:FREQ=YEARLY;INTERVAL=1;BYDAY=-1SU;BYMONTH=3
END:DAYLIGHT
BEGIN:STANDARD
TZOFFSETFROM:+0200
TZOFFSETTO:+0100
TZNAME:CET
DTSTART:19701025T030000
RRULE:FREQ=YEARLY;INTERVAL=1;BYDAY=-1SU;BYMONTH=10
END:STANDARD
END:VTIMEZONE
BEGIN:VEVENT
UID:996b92bf44bbf41d08fc7986491b7e9d@gruene-breisach.de
URL;VALUE=URI:https://gruene-breisach.de/termine/infostand-wochenmarkt-ma
 rktplatz-2021-09-25/
LOCATION:Marktplatz, Breisach am Rhein
SUMMARY:Infostand auf dem Breisacher Wochenmarkt
DESCRIPTION;ALTREP="data:text/html,":
CLASS:PUBLIC
DTSTART;TZID=Europe/Berlin:20210925T090000
DTEND;TZID=Europe/Berlin:20210925T130000
DTSTAMP:20260423T053853
END:VEVENT
END:VCALENDAR